Package: psichomics Version: 1.30.0 Command: rm -rf psichomics.buildbin-libdir && mkdir psichomics.buildbin-libdir && E:\biocbuild\bbs-3.19-bioc\R\bin\R.exe CMD INSTALL --build --library=psichomics.buildbin-libdir psichomics_1.30.0.tar.gz StartedAt: 2024-10-17 08:23:34 -0400 (Thu, 17 Oct 2024) EndedAt: 2024-10-17 08:28:16 -0400 (Thu, 17 Oct 2024) EllapsedTime: 282.8 seconds RetCode: 0 Status: OK PackageFile: psichomics_1.30.0.zip PackageFileSize: 4.953 MiB