Package: psichomics Version: 1.30.0 Command: /home/biocbuild/bbs-3.19-bioc/R/bin/R CMD INSTALL psichomics StartedAt: 2024-10-16 16:27:26 -0400 (Wed, 16 Oct 2024) EndedAt: 2024-10-16 16:28:40 -0400 (Wed, 16 Oct 2024) EllapsedTime: 74.3 seconds RetCode: 0 Status: OK