Package: psichomics Version: 1.30.0 Command: /Library/Frameworks/R.framework/Resources/bin/R CMD INSTALL psichomics StartedAt: 2024-10-16 16:15:31 -0400 (Wed, 16 Oct 2024) EndedAt: 2024-10-16 16:18:28 -0400 (Wed, 16 Oct 2024) EllapsedTime: 176.5 seconds RetCode: 0 Status: OK