Package: psichomics Version: 1.30.0 Command: /Library/Frameworks/R.framework/Resources/bin/R CMD build --keep-empty-dirs --no-resave-data psichomics StartedAt: 2024-10-16 22:15:35 -0400 (Wed, 16 Oct 2024) EndedAt: 2024-10-16 22:20:50 -0400 (Wed, 16 Oct 2024) EllapsedTime: 315.2 seconds RetCode: 0 Status: OK PackageFile: psichomics_1.30.0.tar.gz PackageFileSize: 6.12 MiB