Package: psichomics Version: 1.30.0 Command: /Library/Frameworks/R.framework/Resources/bin/R CMD build --keep-empty-dirs --no-resave-data psichomics StartedAt: 2024-06-10 02:50:19 -0400 (Mon, 10 Jun 2024) EndedAt: 2024-06-10 02:52:58 -0400 (Mon, 10 Jun 2024) EllapsedTime: 158.3 seconds RetCode: 1 Status: ERROR PackageFile: None PackageFileSize: NA