Package: proteasy Version: 1.6.0 Command: /home/biocbuild/bbs-3.19-bioc/R/bin/R CMD build --keep-empty-dirs --no-resave-data proteasy StartedAt: 2024-10-16 20:13:25 -0400 (Wed, 16 Oct 2024) EndedAt: 2024-10-16 20:14:03 -0400 (Wed, 16 Oct 2024) EllapsedTime: 38.1 seconds RetCode: 0 Status: OK PackageFile: proteasy_1.6.0.tar.gz PackageFileSize: 2.701 MiB