Package: proteasy Version: 1.6.0 Command: /Library/Frameworks/R.framework/Resources/bin/R CMD build --keep-empty-dirs --no-resave-data proteasy StartedAt: 2024-10-16 22:15:06 -0400 (Wed, 16 Oct 2024) EndedAt: 2024-10-16 22:16:53 -0400 (Wed, 16 Oct 2024) EllapsedTime: 107.5 seconds RetCode: 0 Status: OK PackageFile: proteasy_1.6.0.tar.gz PackageFileSize: 2.771 MiB