Package: proteasy Version: 1.6.0 Command: /Library/Frameworks/R.framework/Resources/bin/R CMD INSTALL proteasy StartedAt: 2024-10-16 17:09:51 -0400 (Wed, 16 Oct 2024) EndedAt: 2024-10-16 17:09:54 -0400 (Wed, 16 Oct 2024) EllapsedTime: 3.1 seconds RetCode: 0 Status: OK