Package: protGear Version: 1.8.0 Command: /Library/Frameworks/R.framework/Resources/bin/R CMD check --install=check:protGear.install-out.txt --library=/Library/Frameworks/R.framework/Resources/library --no-vignettes --timings protGear_1.8.0.tar.gz StartedAt: 2024-10-17 11:12:19 -0400 (Thu, 17 Oct 2024) EndedAt: 2024-10-17 11:18:52 -0400 (Thu, 17 Oct 2024) EllapsedTime: 392.6 seconds RetCode: 0 Status: OK CheckDir: protGear.Rcheck Warnings: 0