Package: projectR Version: 1.20.0 Command: E:\biocbuild\bbs-3.19-bioc\R\bin\R.exe CMD check --no-multiarch --install=check:projectR.install-out.txt --library=E:\biocbuild\bbs-3.19-bioc\R\library --no-vignettes --timings projectR_1.20.0.tar.gz StartedAt: 2024-10-17 04:37:46 -0400 (Thu, 17 Oct 2024) EndedAt: 2024-10-17 04:40:39 -0400 (Thu, 17 Oct 2024) EllapsedTime: 173.0 seconds RetCode: 0 Status: OK CheckDir: projectR.Rcheck Warnings: 0