Package: projectR Version: 1.20.0 Command: rm -rf projectR.buildbin-libdir && mkdir projectR.buildbin-libdir && E:\biocbuild\bbs-3.19-bioc\R\bin\R.exe CMD INSTALL --build --library=projectR.buildbin-libdir projectR_1.20.0.tar.gz StartedAt: 2024-10-17 08:22:57 -0400 (Thu, 17 Oct 2024) EndedAt: 2024-10-17 08:23:37 -0400 (Thu, 17 Oct 2024) EllapsedTime: 39.8 seconds RetCode: 0 Status: OK PackageFile: projectR_1.20.0.zip PackageFileSize: 6.601 MiB