Package: projectR Version: 1.20.0 Command: rm -rf projectR.buildbin-libdir && mkdir projectR.buildbin-libdir && /Users/biocbuild/BBS/utils/build-universal.sh projectR_1.20.0.tar.gz /Library/Frameworks/R.framework/Resources/bin/R projectR.buildbin-libdir StartedAt: 2024-06-10 00:33:01 -0400 (Mon, 10 Jun 2024) EndedAt: 2024-06-10 00:33:27 -0400 (Mon, 10 Jun 2024) EllapsedTime: 26.0 seconds RetCode: 0 Status: OK PackageFile: projectR_1.20.0.tgz PackageFileSize: 7.611 MiB