Package: projectR Version: 1.20.0 Command: /home/biocbuild/R/R-beta-2024-04-15_r86425/bin/R CMD INSTALL projectR StartedAt: 2024-05-08 20:49:43 -0000 (Wed, 08 May 2024) EndedAt: 2024-05-08 20:50:03 -0000 (Wed, 08 May 2024) EllapsedTime: 20.8 seconds RetCode: 0 Status: OK