Package: projectR Version: 1.20.0 Command: /home/biocbuild/R/R-beta-2024-04-15_r86425/bin/R CMD build --keep-empty-dirs --no-resave-data projectR StartedAt: 2024-05-09 02:38:03 -0000 (Thu, 09 May 2024) EndedAt: 2024-05-09 02:39:26 -0000 (Thu, 09 May 2024) EllapsedTime: 83.1 seconds RetCode: 0 Status: OK PackageFile: projectR_1.20.0.tar.gz PackageFileSize: 5.222 MiB