Package: projectR Version: 1.20.0 Command: rm -rf projectR.buildbin-libdir && mkdir projectR.buildbin-libdir && /Users/biocbuild/BBS/utils/build-universal.sh projectR_1.20.0.tar.gz /Library/Frameworks/R.framework/Resources/bin/R projectR.buildbin-libdir StartedAt: 2024-10-18 20:02:12 -0400 (Fri, 18 Oct 2024) EndedAt: 2024-10-18 20:02:39 -0400 (Fri, 18 Oct 2024) EllapsedTime: 27.3 seconds RetCode: 0 Status: OK PackageFile: projectR_1.20.0.tgz PackageFileSize: 7.615 MiB