Package: progeny Version: 1.26.0 Command: E:\biocbuild\bbs-3.19-bioc\R\bin\R.exe CMD INSTALL progeny StartedAt: 2024-10-16 16:18:59 -0400 (Wed, 16 Oct 2024) EndedAt: 2024-10-16 16:19:14 -0400 (Wed, 16 Oct 2024) EllapsedTime: 14.7 seconds RetCode: 0 Status: OK