Package: progeny Version: 1.26.0 Command: /home/biocbuild/bbs-3.19-bioc/R/bin/R CMD build --keep-empty-dirs --no-resave-data progeny StartedAt: 2024-10-16 20:12:51 -0400 (Wed, 16 Oct 2024) EndedAt: 2024-10-16 20:13:08 -0400 (Wed, 16 Oct 2024) EllapsedTime: 16.0 seconds RetCode: 0 Status: OK PackageFile: progeny_1.26.0.tar.gz PackageFileSize: 10.11 MiB