Package: progeny Version: 1.26.0 Command: /Library/Frameworks/R.framework/Resources/bin/R CMD build --keep-empty-dirs --no-resave-data progeny StartedAt: 2024-06-10 02:47:19 -0400 (Mon, 10 Jun 2024) EndedAt: 2024-06-10 02:47:47 -0400 (Mon, 10 Jun 2024) EllapsedTime: 27.1 seconds RetCode: 0 Status: OK PackageFile: progeny_1.26.0.tar.gz PackageFileSize: 10.15 MiB