Package: profileplyr Version: 1.20.0 Command: E:\biocbuild\bbs-3.19-bioc\R\bin\R.exe CMD check --no-multiarch --install=check:profileplyr.install-out.txt --library=E:\biocbuild\bbs-3.19-bioc\R\library --no-vignettes --timings profileplyr_1.20.0.tar.gz StartedAt: 2024-10-17 04:37:09 -0400 (Thu, 17 Oct 2024) EndedAt: 2024-10-17 04:45:43 -0400 (Thu, 17 Oct 2024) EllapsedTime: 513.5 seconds RetCode: 0 Status: OK CheckDir: profileplyr.Rcheck Warnings: 0