Package: profileplyr Version: 1.20.0 Command: chmod a+r profileplyr -R && E:\biocbuild\bbs-3.19-bioc\R\bin\R.exe CMD build --keep-empty-dirs --no-resave-data profileplyr StartedAt: 2024-10-16 21:13:47 -0400 (Wed, 16 Oct 2024) EndedAt: 2024-10-16 21:16:59 -0400 (Wed, 16 Oct 2024) EllapsedTime: 192.0 seconds RetCode: 0 Status: OK PackageFile: profileplyr_1.20.0.tar.gz PackageFileSize: 2.291 MiB