Package: profileplyr Version: 1.20.0 Command: /home/biocbuild/R/R-beta-2024-04-15_r86425/bin/R CMD build --keep-empty-dirs --no-resave-data profileplyr StartedAt: 2024-05-09 02:37:40 -0000 (Thu, 09 May 2024) EndedAt: 2024-05-09 02:40:54 -0000 (Thu, 09 May 2024) EllapsedTime: 194.3 seconds RetCode: 0 Status: OK PackageFile: profileplyr_1.20.0.tar.gz PackageFileSize: 2.277 MiB