Package: profileplyr Version: 1.20.0 Maintainer: Tom Carroll , Doug Barrows MaintainerEmail: doug.barrows at gmail.com git_url: https://git.bioconductor.org/packages/profileplyr git_branch: RELEASE_3_19 git_last_commit: 1f72ff7 git_last_commit_date: 2024-04-30 11:13:57 -0400 (Tue, 30 Apr 2024)