Package: profileScoreDist Version: 1.32.0 Command: rm -rf profileScoreDist.buildbin-libdir && mkdir profileScoreDist.buildbin-libdir && /Users/biocbuild/BBS/utils/build-universal.sh profileScoreDist_1.32.0.tar.gz /Library/Frameworks/R.framework/Resources/bin/R profileScoreDist.buildbin-libdir StartedAt: 2024-10-17 16:52:47 -0400 (Thu, 17 Oct 2024) EndedAt: 2024-10-17 16:53:17 -0400 (Thu, 17 Oct 2024) EllapsedTime: 30.2 seconds RetCode: 0 Status: OK PackageFile: profileScoreDist_1.32.0.tgz PackageFileSize: 351.6 KiB