Package: profileScoreDist Version: 1.32.0 Command: rm -rf profileScoreDist.buildbin-libdir && mkdir profileScoreDist.buildbin-libdir && /Users/biocbuild/BBS/utils/build-universal.sh profileScoreDist_1.32.0.tar.gz /Library/Frameworks/R.framework/Resources/bin/R profileScoreDist.buildbin-libdir StartedAt: 2024-10-18 20:02:03 -0400 (Fri, 18 Oct 2024) EndedAt: 2024-10-18 20:02:19 -0400 (Fri, 18 Oct 2024) EllapsedTime: 16.0 seconds RetCode: 0 Status: OK PackageFile: profileScoreDist_1.32.0.tgz PackageFileSize: 350.3 KiB