Package: profileScoreDist Version: 1.32.0 Maintainer: Paal O. Westermark MaintainerEmail: pal-olof.westermark at charite.de git_url: https://git.bioconductor.org/packages/profileScoreDist git_branch: RELEASE_3_19 git_last_commit: cfd06e7 git_last_commit_date: 2024-04-30 10:47:12 -0400 (Tue, 30 Apr 2024)