Package: proDA Version: 1.18.0 Command: chmod a+r proDA -R && E:\biocbuild\bbs-3.19-bioc\R\bin\R.exe CMD build --keep-empty-dirs --no-resave-data proDA StartedAt: 2024-10-16 21:13:41 -0400 (Wed, 16 Oct 2024) EndedAt: 2024-10-16 21:15:27 -0400 (Wed, 16 Oct 2024) EllapsedTime: 106.0 seconds RetCode: 0 Status: OK PackageFile: proDA_1.18.0.tar.gz PackageFileSize: 1.123 MiB