Package: proDA Version: 1.18.0 Command: rm -rf proDA.buildbin-libdir && mkdir proDA.buildbin-libdir && E:\biocbuild\bbs-3.19-bioc\R\bin\R.exe CMD INSTALL --build --library=proDA.buildbin-libdir proDA_1.18.0.tar.gz StartedAt: 2024-10-17 08:22:47 -0400 (Thu, 17 Oct 2024) EndedAt: 2024-10-17 08:23:35 -0400 (Thu, 17 Oct 2024) EllapsedTime: 48.0 seconds RetCode: 0 Status: OK PackageFile: proDA_1.18.0.zip PackageFileSize: 1.082 MiB