Package: proDA Version: 1.18.0 Command: chmod a+r proDA -R && F:\biocbuild\bbs-3.19-bioc\R\bin\R.exe CMD build --keep-empty-dirs --no-resave-data proDA StartedAt: 2024-06-26 21:06:07 -0400 (Wed, 26 Jun 2024) EndedAt: 2024-06-26 21:07:57 -0400 (Wed, 26 Jun 2024) EllapsedTime: 110.6 seconds RetCode: 0 Status: OK PackageFile: proDA_1.18.0.tar.gz PackageFileSize: 1.123 MiB