Package: proDA Version: 1.18.0 Command: /Library/Frameworks/R.framework/Resources/bin/R CMD build --keep-empty-dirs --no-resave-data proDA StartedAt: 2024-06-09 17:46:43 -0400 (Sun, 09 Jun 2024) EndedAt: 2024-06-09 17:48:08 -0400 (Sun, 09 Jun 2024) EllapsedTime: 84.5 seconds RetCode: 0 Status: OK PackageFile: proDA_1.18.0.tar.gz PackageFileSize: 1.251 MiB