Package: proDA Version: 1.18.0 Command: /Library/Frameworks/R.framework/Resources/bin/R CMD build --keep-empty-dirs --no-resave-data proDA StartedAt: 2024-10-17 06:43:06 -0400 (Thu, 17 Oct 2024) EndedAt: 2024-10-17 06:44:45 -0400 (Thu, 17 Oct 2024) EllapsedTime: 98.9 seconds RetCode: 0 Status: OK PackageFile: proDA_1.18.0.tar.gz PackageFileSize: 1.251 MiB