Package: proDA Version: 1.18.0 Command: rm -rf proDA.buildbin-libdir && mkdir proDA.buildbin-libdir && /Users/biocbuild/BBS/utils/build-universal.sh proDA_1.18.0.tar.gz /Library/Frameworks/R.framework/Resources/bin/R proDA.buildbin-libdir StartedAt: 2024-10-18 20:01:48 -0400 (Fri, 18 Oct 2024) EndedAt: 2024-10-18 20:02:20 -0400 (Fri, 18 Oct 2024) EllapsedTime: 31.9 seconds RetCode: 0 Status: OK PackageFile: proDA_1.18.0.tgz PackageFileSize: 1.203 MiB