Package: proDA Version: 1.18.0 Maintainer: Constantin Ahlmann-Eltze MaintainerEmail: artjom31415 at googlemail.com git_url: https://git.bioconductor.org/packages/proDA git_branch: RELEASE_3_19 git_last_commit: 44df8a7 git_last_commit_date: 2024-04-30 11:16:11 -0400 (Tue, 30 Apr 2024)