Package: proBAMr Version: 1.38.0 Command: /Library/Frameworks/R.framework/Resources/bin/R CMD INSTALL proBAMr StartedAt: 2024-10-16 17:08:59 -0400 (Wed, 16 Oct 2024) EndedAt: 2024-10-16 17:09:43 -0400 (Wed, 16 Oct 2024) EllapsedTime: 44.3 seconds RetCode: 0 Status: OK