Package: proActiv Version: 1.14.0 Command: E:\biocbuild\bbs-3.19-bioc\R\bin\R.exe CMD INSTALL proActiv StartedAt: 2024-10-16 17:15:06 -0400 (Wed, 16 Oct 2024) EndedAt: 2024-10-16 17:16:06 -0400 (Wed, 16 Oct 2024) EllapsedTime: 59.7 seconds RetCode: 0 Status: OK