Package: proActiv Version: 1.14.0 Command: rm -rf proActiv.buildbin-libdir && mkdir proActiv.buildbin-libdir && E:\biocbuild\bbs-3.19-bioc\R\bin\R.exe CMD INSTALL --build --library=proActiv.buildbin-libdir proActiv_1.14.0.tar.gz StartedAt: 2024-10-17 08:22:40 -0400 (Thu, 17 Oct 2024) EndedAt: 2024-10-17 08:25:14 -0400 (Thu, 17 Oct 2024) EllapsedTime: 153.8 seconds RetCode: 0 Status: OK PackageFile: proActiv_1.14.0.zip PackageFileSize: 2.669 MiB