Package: proActiv Version: 1.14.0 Command: /Library/Frameworks/R.framework/Resources/bin/R CMD check --install=check:proActiv.install-out.txt --library=/Library/Frameworks/R.framework/Resources/library --no-vignettes --timings proActiv_1.14.0.tar.gz StartedAt: 2024-10-18 07:55:02 -0400 (Fri, 18 Oct 2024) EndedAt: 2024-10-18 08:02:00 -0400 (Fri, 18 Oct 2024) EllapsedTime: 418.1 seconds RetCode: 0 Status: OK CheckDir: proActiv.Rcheck Warnings: 0