Package: proActiv Version: 1.14.0 Command: /Library/Frameworks/R.framework/Resources/bin/R CMD build --keep-empty-dirs --no-resave-data proActiv StartedAt: 2024-10-17 06:41:22 -0400 (Thu, 17 Oct 2024) EndedAt: 2024-10-17 06:42:40 -0400 (Thu, 17 Oct 2024) EllapsedTime: 77.1 seconds RetCode: 0 Status: OK PackageFile: proActiv_1.14.0.tar.gz PackageFileSize: 2.684 MiB