Package: primirTSS Version: 1.22.0 Command: chmod a+r primirTSS -R && F:\biocbuild\bbs-3.19-bioc\R\bin\R.exe CMD build --keep-empty-dirs --no-resave-data primirTSS StartedAt: 2024-06-26 21:05:31 -0400 (Wed, 26 Jun 2024) EndedAt: 2024-06-26 21:07:10 -0400 (Wed, 26 Jun 2024) EllapsedTime: 99.1 seconds RetCode: 0 Status: OK PackageFile: primirTSS_1.22.0.tar.gz PackageFileSize: 3.662 MiB