Package: primirTSS Version: 1.22.0 Command: /home/biocbuild/bbs-3.19-bioc/R/bin/R CMD check --install=check:primirTSS.install-out.txt --library=/home/biocbuild/bbs-3.19-bioc/R/site-library --timings primirTSS_1.22.0.tar.gz StartedAt: 2024-10-17 03:53:10 -0400 (Thu, 17 Oct 2024) EndedAt: 2024-10-17 03:57:56 -0400 (Thu, 17 Oct 2024) EllapsedTime: 286.6 seconds RetCode: 0 Status: WARNINGS CheckDir: primirTSS.Rcheck Warnings: 1