Package: primirTSS Version: 1.22.0 Command: /Library/Frameworks/R.framework/Resources/bin/R CMD check --install=check:primirTSS.install-out.txt --library=/Library/Frameworks/R.framework/Resources/library --no-vignettes --timings primirTSS_1.22.0.tar.gz StartedAt: 2024-10-17 11:05:37 -0400 (Thu, 17 Oct 2024) EndedAt: 2024-10-17 11:15:34 -0400 (Thu, 17 Oct 2024) EllapsedTime: 597.2 seconds RetCode: 0 Status: WARNINGS CheckDir: primirTSS.Rcheck Warnings: 1