Package: primirTSS Version: 1.22.0 Command: rm -rf primirTSS.buildbin-libdir && mkdir primirTSS.buildbin-libdir && /Users/biocbuild/BBS/utils/build-universal.sh primirTSS_1.22.0.tar.gz /Library/Frameworks/R.framework/Resources/bin/R primirTSS.buildbin-libdir StartedAt: 2024-10-18 20:00:47 -0400 (Fri, 18 Oct 2024) EndedAt: 2024-10-18 20:01:48 -0400 (Fri, 18 Oct 2024) EllapsedTime: 60.8 seconds RetCode: 0 Status: OK PackageFile: primirTSS_1.22.0.tgz PackageFileSize: 3.831 MiB