Package: primirTSS Version: 1.22.0 Maintainer: Pumin Li MaintainerEmail: ipumin at 163.com git_url: https://git.bioconductor.org/packages/primirTSS git_branch: RELEASE_3_19 git_last_commit: 3d986ad git_last_commit_date: 2024-04-30 11:08:56 -0400 (Tue, 30 Apr 2024)