Package: preprocessCore Version: 1.66.0 Command: E:\biocbuild\bbs-3.19-bioc\R\bin\R.exe CMD check --no-multiarch --install=check:preprocessCore.install-out.txt --library=E:\biocbuild\bbs-3.19-bioc\R\library --no-vignettes --timings preprocessCore_1.66.0.tar.gz StartedAt: 2024-10-17 04:35:44 -0400 (Thu, 17 Oct 2024) EndedAt: 2024-10-17 04:36:15 -0400 (Thu, 17 Oct 2024) EllapsedTime: 31.0 seconds RetCode: 0 Status: WARNINGS CheckDir: preprocessCore.Rcheck Warnings: 1