Package: preprocessCore Version: 1.66.0 Command: /Library/Frameworks/R.framework/Resources/bin/R CMD check --install=check:preprocessCore.install-out.txt --library=/Library/Frameworks/R.framework/Resources/library --no-vignettes --timings preprocessCore_1.66.0.tar.gz StartedAt: 2024-10-18 07:53:25 -0400 (Fri, 18 Oct 2024) EndedAt: 2024-10-18 07:53:51 -0400 (Fri, 18 Oct 2024) EllapsedTime: 25.7 seconds RetCode: 0 Status: WARNINGS CheckDir: preprocessCore.Rcheck Warnings: 2