Package: preprocessCore Version: 1.66.0 Command: /Library/Frameworks/R.framework/Resources/bin/R CMD build --keep-empty-dirs --no-resave-data preprocessCore StartedAt: 2024-10-17 06:40:32 -0400 (Thu, 17 Oct 2024) EndedAt: 2024-10-17 06:40:34 -0400 (Thu, 17 Oct 2024) EllapsedTime: 2.3 seconds RetCode: 0 Status: OK PackageFile: preprocessCore_1.66.0.tar.gz PackageFileSize: 121.1 KiB