Package: preprocessCore Version: 1.66.0 Command: rm -rf preprocessCore.buildbin-libdir && mkdir preprocessCore.buildbin-libdir && /Users/biocbuild/BBS/utils/build-universal.sh preprocessCore_1.66.0.tar.gz /Library/Frameworks/R.framework/Resources/bin/R preprocessCore.buildbin-libdir StartedAt: 2024-10-18 20:00:42 -0400 (Fri, 18 Oct 2024) EndedAt: 2024-10-18 20:01:11 -0400 (Fri, 18 Oct 2024) EllapsedTime: 29.2 seconds RetCode: 0 Status: OK PackageFile: preprocessCore_1.66.0.tgz PackageFileSize: 161.3 KiB