Package: pram Version: 1.20.0 Command: rm -rf pram.buildbin-libdir && mkdir pram.buildbin-libdir && E:\biocbuild\bbs-3.19-bioc\R\bin\R.exe CMD INSTALL --build --library=pram.buildbin-libdir pram_1.20.0.tar.gz StartedAt: 2024-10-17 08:22:28 -0400 (Thu, 17 Oct 2024) EndedAt: 2024-10-17 08:23:43 -0400 (Thu, 17 Oct 2024) EllapsedTime: 75.4 seconds RetCode: 0 Status: OK PackageFile: pram_1.20.0.zip PackageFileSize: 2.497 MiB