Package: pram Version: 1.20.0 Command: rm -rf pram.buildbin-libdir && mkdir pram.buildbin-libdir && F:\biocbuild\bbs-3.19-bioc\R\bin\R.exe CMD INSTALL --build --library=pram.buildbin-libdir pram_1.20.0.tar.gz StartedAt: 2024-06-27 08:41:37 -0400 (Thu, 27 Jun 2024) EndedAt: 2024-06-27 08:42:22 -0400 (Thu, 27 Jun 2024) EllapsedTime: 44.7 seconds RetCode: 0 Status: OK PackageFile: pram_1.20.0.zip PackageFileSize: 2.497 MiB