Package: pram Version: 1.20.0 Command: /Library/Frameworks/R.framework/Resources/bin/R CMD build --keep-empty-dirs --no-resave-data pram StartedAt: 2024-10-16 22:11:30 -0400 (Wed, 16 Oct 2024) EndedAt: 2024-10-16 22:13:21 -0400 (Wed, 16 Oct 2024) EllapsedTime: 110.8 seconds RetCode: 0 Status: OK PackageFile: pram_1.20.0.tar.gz PackageFileSize: 2.666 MiB