Package: pram Version: 1.20.0 Command: /Library/Frameworks/R.framework/Resources/bin/R CMD INSTALL pram StartedAt: 2024-06-09 15:44:28 -0400 (Sun, 09 Jun 2024) EndedAt: 2024-06-09 15:45:19 -0400 (Sun, 09 Jun 2024) EllapsedTime: 51.6 seconds RetCode: 0 Status: OK